BEGIN:VCALENDAR
VERSION:2.0
PRODID:-//SportPlan//Event Calendar//EN
CALSCALE:GREGORIAN
BEGIN:VEVENT
UID:30f031d0-3b4b-4aaf-b349-e3d4f98dd23a@sportplan.local
DTSTAMP:20260420T204317Z
DTSTART;VALUE=DATE:20261024
DTEND;VALUE=DATE:20261025
SUMMARY:Great Trek 2026
DESCRIPTION:Great Trek 2026 is an official amateur running event in Vancouver\, British Columbia\, scheduled for Saturday\, 24 October 2026. The official event site says the race returns with a half marathon\, 10 km\, 5 km\, and RUNVAN Hat-trick format on and around the University of British Columbia campus in Musqueam territory.
LOCATION:Vancouver
URL:https://sportplan.vercel.app/de/events/great-trek-2026-vancouver-2026-10-24
END:VEVENT
END:VCALENDAR
