BEGIN:VCALENDAR
VERSION:2.0
PRODID:-//SportPlan//Event Calendar//EN
CALSCALE:GREGORIAN
BEGIN:VEVENT
UID:c06f3c0f-6885-4bdb-b82e-fd0a597cfb90@sportplan.local
DTSTAMP:20260420T191635Z
DTSTART;VALUE=DATE:20260913
DTEND;VALUE=DATE:20260914
SUMMARY:Great North Run Half 2026
DESCRIPTION:
LOCATION:Newcastle\, England
URL:https://sportplan.vercel.app/de/events/great-north-run-half-2026-newcastle-2026-09-13
END:VEVENT
END:VCALENDAR
