BEGIN:VCALENDAR
VERSION:2.0
PRODID:-//SportPlan//Event Calendar//EN
CALSCALE:GREGORIAN
BEGIN:VEVENT
UID:fc682374-ab80-4e1e-ba96-636d2abea77d@sportplan.local
DTSTAMP:20260420T231655Z
DTSTART;VALUE=DATE:20261010
DTEND;VALUE=DATE:20261011
SUMMARY:Graz Marathon
DESCRIPTION:Graz Marathon findet am 10. Oktober 2026 in Graz\, Austria statt. Die Veranstaltung ist ideal für alle\, die ein gut organisiertes Sportevent und eine motivierende Atmosphäre suchen. Perfekt\, um Bestzeiten anzugreifen\, eine neue Herausforderung anzunehmen oder die besondere Eventstimmung zu genießen.
LOCATION:Graz\, Austria
URL:https://sportplan.vercel.app/de/events/graz-marathon-2026-10-10
END:VEVENT
END:VCALENDAR
