BEGIN:VCALENDAR
VERSION:2.0
PRODID:-//SportPlan//Event Calendar//EN
CALSCALE:GREGORIAN
BEGIN:VEVENT
UID:3def5b30-832e-4d0f-a7d0-2718b317341c@sportplan.local
DTSTAMP:20260421T005946Z
DTSTART;VALUE=DATE:20260829
DTEND;VALUE=DATE:20260830
SUMMARY:GravelBirken 100 km 2026
DESCRIPTION:GravelBirken 100 km 2026 is an official amateur gravel cycling race in Lillehammer\, Norway on 29 August 2026. The official Birken GravelBirken page offers a 100 km route starting and finishing in Lillehammer with around 1\,800 metres of climbing\, and Birken's official news says GravelBirken is held on the same day as the traditional Birkebeinerrittet\, whose 2026 page states 29 August 2026.
LOCATION:Birkebeineren Ski Stadium to Håkons Hall\, Lillehammer
URL:https://sportplan.vercel.app/de/events/gravelbirken-100-km-2026-2026-08-29
END:VEVENT
END:VCALENDAR
