BEGIN:VCALENDAR
VERSION:2.0
PRODID:-//SportPlan//Event Calendar//EN
CALSCALE:GREGORIAN
BEGIN:VEVENT
UID:c7d4abf1-0257-4ace-85c2-19ce6673a876@sportplan.local
DTSTAMP:20260420T221902Z
DTSTART;VALUE=DATE:20261010
DTEND;VALUE=DATE:20261011
SUMMARY:Gravel Ourense Termal
DESCRIPTION:Gravel Ourense Termal se celebrará en Ourense el 10 octubre 2026. Es una cita ideal para quienes buscan una experiencia deportiva bien organizada y un recorrido de 90 km. Perfecto tanto para participantes que quieren rendir al máximo como para quienes desean disfrutar del ambiente del evento.
LOCATION:Ourense
URL:https://sportplan.vercel.app/de/events/gravel-ourense-termal-ourense-2026-10-10
END:VEVENT
END:VCALENDAR
