BEGIN:VCALENDAR
VERSION:2.0
PRODID:-//SportPlan//Event Calendar//EN
CALSCALE:GREGORIAN
BEGIN:VEVENT
UID:0bd1dd57-c727-4eb6-a2fb-73e9a8dded6e@sportplan.local
DTSTAMP:20260420T225849Z
DTSTART;VALUE=DATE:20260501
DTEND;VALUE=DATE:20260502
SUMMARY:Grand Prix des Sylves
DESCRIPTION:Grand Prix des Sylves aura lieu le 1 mai 2026 à Dour. C'est un bon choix pour les participants à la recherche d'une expérience sportive bien organisée sur une distance d'environ 14.5 km. L'événement convient aussi bien aux habitués qu'à ceux qui veulent se fixer un nouveau défi cette saison.
LOCATION:Dour
URL:https://sportplan.vercel.app/de/events/grand-prix-des-sylves-dour-2026-05-01
END:VEVENT
END:VCALENDAR
