BEGIN:VCALENDAR
VERSION:2.0
PRODID:-//SportPlan//Event Calendar//EN
CALSCALE:GREGORIAN
BEGIN:VEVENT
UID:efdf1cc1-7ddd-47e4-ad04-e51c9f4c546b@sportplan.local
DTSTAMP:20260420T204726Z
DTSTART;VALUE=DATE:20261020
DTEND;VALUE=DATE:20261021
SUMMARY:Gran Fondo Caixabank - Pontevedra 10K
DESCRIPTION:Gran Fondo Caixabank - Pontevedra 10K se celebrará el 20 de octubre de 2026 en Pontevedra\, Pontevedra\, Galicia\, reuniendo a participantes que buscan una jornada deportiva bien organizada. La prueba propone un recorrido de 10 km que combina reto y disfrute. Es una excelente oportunidad para disfrutar del ambiente local\, marcarse un objetivo de temporada y vivir el evento con buena energía.
LOCATION:Pontevedra\, Pontevedra\, Galicia
URL:https://sportplan.vercel.app/de/events/gran-fondo-caixabank-pontevedra-10k-pontevedra-2026-10-20-10k
END:VEVENT
END:VCALENDAR
