BEGIN:VCALENDAR
VERSION:2.0
PRODID:-//SportPlan//Event Calendar//EN
CALSCALE:GREGORIAN
BEGIN:VEVENT
UID:3da16215-bb72-4bbd-ae20-78a8fdc08d51@sportplan.local
DTSTAMP:20260420T191003Z
DTSTART;VALUE=DATE:20260606
DTEND;VALUE=DATE:20260607
SUMMARY:Gr221 Trail Mallorca
DESCRIPTION:Gr221 Trail Mallorca se celebrará el 6 de junio de 2026 en Deià\, Mallorca. Es una buena opción para quienes buscan un reto bien organizado en un entorno atractivo de aproximadamente 55 km. Ideal para planificar la temporada\, disfrutar del ambiente del evento y competir a tu ritmo.
LOCATION:Deià\, Mallorca
URL:https://sportplan.vercel.app/de/events/gr221-trail-mallorca-dei-2026-06-06
END:VEVENT
END:VCALENDAR
