BEGIN:VCALENDAR
VERSION:2.0
PRODID:-//SportPlan//Event Calendar//EN
CALSCALE:GREGORIAN
BEGIN:VEVENT
UID:674ad9fd-5d5c-4206-8077-b4985ac29a86@sportplan.local
DTSTAMP:20260420T233613Z
DTSTART;VALUE=DATE:20260703
DTEND;VALUE=DATE:20260704
SUMMARY:Gornergrat Zermatt Marathon
DESCRIPTION:official event page\; Tier 2 country scout
LOCATION:Zermatt\, Switzerland
URL:https://sportplan.vercel.app/de/events/gornergrat-zermatt-marathon-2026-07-03
END:VEVENT
END:VCALENDAR
