BEGIN:VCALENDAR
VERSION:2.0
PRODID:-//SportPlan//Event Calendar//EN
CALSCALE:GREGORIAN
BEGIN:VEVENT
UID:05c2c6ee-3e44-4760-a031-138f1f4d1ff1@sportplan.local
DTSTAMP:20260420T173612Z
DTSTART;VALUE=DATE:20260426
DTEND;VALUE=DATE:20260427
SUMMARY:Gopher Attack Marathon
DESCRIPTION:
LOCATION:Regina
URL:https://sportplan.vercel.app/de/events/gopher-attack-marathon-regina-2026-04-26
END:VEVENT
END:VCALENDAR
