BEGIN:VCALENDAR
VERSION:2.0
PRODID:-//SportPlan//Event Calendar//EN
CALSCALE:GREGORIAN
BEGIN:VEVENT
UID:648e4553-b779-4326-b525-f1105b982ce5@sportplan.local
DTSTAMP:20260420T204645Z
DTSTART;VALUE=DATE:20270320
DTEND;VALUE=DATE:20270321
SUMMARY:Gold Coast T100 Triathlon – 20-21 Mar 2027
DESCRIPTION:discovered via official T100 Triathlon website\; Gold Coast T100 20-21 Mar 2027 (next annual edition\; current page shows 2027 dates)\; annual recurring T100 in Queensland Australia\; AU already has triathlon entries from IRONMAN series but Gold Coast T100 was not seeded\; sport variety expansion\; BEAST SPECIAL run 2026-03-30
LOCATION:Queensland\, Australia
URL:https://sportplan.vercel.app/de/events/gold-coast-t100-triathlon-20-21-mar-2027-2027-03-20
END:VEVENT
END:VCALENDAR
