BEGIN:VCALENDAR
VERSION:2.0
PRODID:-//SportPlan//Event Calendar//EN
CALSCALE:GREGORIAN
BEGIN:VEVENT
UID:c04b28d5-b899-44cf-98f6-55985b523ff0@sportplan.local
DTSTAMP:20260420T191532Z
DTSTART;VALUE=DATE:20260606
DTEND;VALUE=DATE:20260607
SUMMARY:Gökçeada Ultra Trail
DESCRIPTION:Official event site.
LOCATION:Gökçeada\, Türkiye
URL:https://sportplan.vercel.app/de/events/gokceada-ultra-trail-2026-06-06
END:VEVENT
END:VCALENDAR
