BEGIN:VCALENDAR
VERSION:2.0
PRODID:-//SportPlan//Event Calendar//EN
CALSCALE:GREGORIAN
BEGIN:VEVENT
UID:ddd47a7a-b879-49a7-a425-dcf487b35465@sportplan.local
DTSTAMP:20260420T225817Z
DTSTART;VALUE=DATE:20261213
DTEND;VALUE=DATE:20261214
SUMMARY:Goa River Marathon 2026
DESCRIPTION:Official SKF Goa River Marathon site for the December 13\, 2026 road-running event in Panaji\, Goa\, describing the event as India's scenic Mandovi River marathon and fitness festival.
LOCATION:Panaji\, Goa
URL:https://sportplan.vercel.app/de/events/goa-river-marathon-2026-panaji-2026-12-13
END:VEVENT
END:VCALENDAR
