BEGIN:VCALENDAR
VERSION:2.0
PRODID:-//SportPlan//Event Calendar//EN
CALSCALE:GREGORIAN
BEGIN:VEVENT
UID:e31e2220-05fa-4945-b043-1808ae0137a2@sportplan.local
DTSTAMP:20260420T203656Z
DTSTART;VALUE=DATE:20260705
DTEND;VALUE=DATE:20260706
SUMMARY:Gletschermarathon Pitztal-Imst
DESCRIPTION:Gletschermarathon Pitztal-Imst findet am 5. Juli 2026 in Imst statt. Die Veranstaltung ist eine gute Wahl für Teilnehmende\, die ein gut organisiertes Sporterlebnis und eine motivierende Atmosphäre suchen. Prüfen Sie die offiziellen Veranstaltungsinformationen für Startzeiten\, Strecke und organisatorische Details.
LOCATION:Imst
URL:https://sportplan.vercel.app/de/events/gletschermarathon-pitztal-imst-imst-2026-07-05
END:VEVENT
END:VCALENDAR
