BEGIN:VCALENDAR
VERSION:2.0
PRODID:-//SportPlan//Event Calendar//EN
CALSCALE:GREGORIAN
BEGIN:VEVENT
UID:15df0b2f-1f5e-4424-b864-41ff6b0443c9@sportplan.local
DTSTAMP:20260421T001330Z
DTSTART;VALUE=DATE:20260920
DTEND;VALUE=DATE:20260921
SUMMARY:GFNY Pittsburgh-Monroeville 2026
DESCRIPTION:GFNY Pittsburgh-Monroeville 2026 is an amateur road-cycling gran fondo in Monroeville\, Pennsylvania\, United States on 20 September 2026. GFNY's official race finder lists GFNY Pittsburgh on that date\, and the official organizer-owned event site places the race in Monroeville at CCAC Boyce Campus with a 47-mile medium route and an 80-mile competitive long route through Allegheny and Westmoreland Counties.
LOCATION:Monroeville
URL:https://sportplan.vercel.app/de/events/gfny-pittsburgh-monroeville-2026-2026-09-20
END:VEVENT
END:VCALENDAR
