BEGIN:VCALENDAR
VERSION:2.0
PRODID:-//SportPlan//Event Calendar//EN
CALSCALE:GREGORIAN
BEGIN:VEVENT
UID:cae8fd00-cbee-46f5-9ba5-6d92123af82a@sportplan.local
DTSTAMP:20260420T204142Z
DTSTART;VALUE=DATE:20260621
DTEND;VALUE=DATE:20260622
SUMMARY:GFNY Belitung 2026
DESCRIPTION:GFNY Belitung 2026 is an amateur road-cycling gran fondo in Tanjung Pandan\, Belitung\, Indonesia on 21 June 2026. The official GFNY Belitung site places the start and finish on Pantai Tanjung Pendam in central Tanjung Pandan and describes a public long route of 138 km plus a shorter medio option after the coastal split back into town.
LOCATION:Tanjung Pandan
URL:https://sportplan.vercel.app/de/events/gfny-belitung-2026-2026-06-21
END:VEVENT
END:VCALENDAR
