BEGIN:VCALENDAR
VERSION:2.0
PRODID:-//SportPlan//Event Calendar//EN
CALSCALE:GREGORIAN
BEGIN:VEVENT
UID:3d69f594-765f-4330-ba8b-d9194a3ee5e9@sportplan.local
DTSTAMP:20260420T204441Z
DTSTART;VALUE=DATE:20260530
DTEND;VALUE=DATE:20260531
SUMMARY:Geopark Maestrail
DESCRIPTION:Geopark Maestrail es una prueba que se celebrará el 2026-05-30 en Allepuz\, Teruel. Es una buena opción para quienes buscan una jornada activa y bien organizada. Ideal tanto para participantes habituales como para quienes quieren sumar una nueva experiencia al calendario.
LOCATION:Allepuz\, Teruel
URL:https://sportplan.vercel.app/de/events/geopark-maestrail-allepuz-2026-05-30
END:VEVENT
END:VCALENDAR
