BEGIN:VCALENDAR
VERSION:2.0
PRODID:-//SportPlan//Event Calendar//EN
CALSCALE:GREGORIAN
BEGIN:VEVENT
UID:3fbd8c92-1c56-4fba-9ae6-c60877cba01c@sportplan.local
DTSTAMP:20260420T233912Z
DTSTART;VALUE=DATE:20260509
DTEND;VALUE=DATE:20260510
SUMMARY:Generali Genève Marathon — 5 KM by Always
DESCRIPTION:discovered via direct web_fetch on official race site\; Switzerland expansion
LOCATION:Geneva\, Switzerland
URL:https://sportplan.vercel.app/de/events/generali-geneve-marathon-5-km-by-always-2026-05-09
END:VEVENT
END:VCALENDAR
