BEGIN:VCALENDAR
VERSION:2.0
PRODID:-//SportPlan//Event Calendar//EN
CALSCALE:GREGORIAN
BEGIN:VEVENT
UID:b8af4e07-ac6d-4cd0-afae-c03acc30865e@sportplan.local
DTSTAMP:20260420T190947Z
DTSTART;VALUE=DATE:20270404
DTEND;VALUE=DATE:20270405
SUMMARY:Generali Berlin Half Marathon
DESCRIPTION:Official event site\; major German half marathon.
LOCATION:Berlin\, Germany
URL:https://sportplan.vercel.app/de/events/generali-berlin-half-marathon-2027-04-04
END:VEVENT
END:VCALENDAR
