BEGIN:VCALENDAR
VERSION:2.0
PRODID:-//SportPlan//Event Calendar//EN
CALSCALE:GREGORIAN
BEGIN:VEVENT
UID:9756dc9c-b0f3-48e1-b2ce-60c5562be4a1@sportplan.local
DTSTAMP:20260420T222723Z
DTSTART;VALUE=DATE:20270221
DTEND;VALUE=DATE:20270222
SUMMARY:Gatineau Loppet Free 10K 2027
DESCRIPTION:Gatineau Loppet Free 10K is an official mass-participation cross-country ski race in Gatineau\, Québec\, Canada on 21 February 2027. The official race page lists the public 10 km free-technique event on Sunday 21 February 2027 and explicitly offers timed waves plus a non-timed discovery wave for skiers of all levels.
LOCATION:Gatineau\, Québec\, Canada
URL:https://sportplan.vercel.app/de/events/gatineau-loppet-free-10k-2027-gatineau-2027-02-21
END:VEVENT
END:VCALENDAR
