BEGIN:VCALENDAR
VERSION:2.0
PRODID:-//SportPlan//Event Calendar//EN
CALSCALE:GREGORIAN
BEGIN:VEVENT
UID:f6298818-8879-43ee-b7f4-935577d90794@sportplan.local
DTSTAMP:20260420T222635Z
DTSTART;VALUE=DATE:20270220
DTEND;VALUE=DATE:20270221
SUMMARY:Gatineau Loppet Classic 50K 2027
DESCRIPTION:Gatineau Loppet Classic 50K is an official mass-participation cross-country ski marathon in Gatineau\, Québec\, Canada on 20 February 2027. The official Gatineau Loppet event pages describe the classic 50 km race for intermediate and advanced skiers\, with timed waves\, an untimed discovery wave\, and bus logistics from Mont-Bleu\, while the official Worldloppet calendar lists the 50 km classic race on 20 February 2027.
LOCATION:Gatineau\, Québec\, Canada
URL:https://sportplan.vercel.app/de/events/gatineau-loppet-classic-50k-2027-gatineau-2027-02-20
END:VEVENT
END:VCALENDAR
