BEGIN:VCALENDAR
VERSION:2.0
PRODID:-//SportPlan//Event Calendar//EN
CALSCALE:GREGORIAN
BEGIN:VEVENT
UID:ac62ab9d-7de5-4bd1-984a-d757ab63f053@sportplan.local
DTSTAMP:20260420T222635Z
DTSTART;VALUE=DATE:20270220
DTEND;VALUE=DATE:20270221
SUMMARY:Gatineau Loppet Classic 15K 2027
DESCRIPTION:Gatineau Loppet Classic 15K is an official mass-participation cross-country ski race in Gatineau\, Québec\, Canada on 20 February 2027. The official race page lists the public 15 km classical event on Saturday 20 February 2027 and explicitly offers both timed waves and a non-timed discovery wave for skiers of all levels.
LOCATION:Gatineau\, Québec\, Canada
URL:https://sportplan.vercel.app/de/events/gatineau-loppet-classic-15k-2027-gatineau-2027-02-20
END:VEVENT
END:VCALENDAR
