BEGIN:VCALENDAR
VERSION:2.0
PRODID:-//SportPlan//Event Calendar//EN
CALSCALE:GREGORIAN
BEGIN:VEVENT
UID:ac4b749e-a0de-41b7-9b72-4f71f033f31e@sportplan.local
DTSTAMP:20260421T001617Z
DTSTART;VALUE=DATE:20260725
DTEND;VALUE=DATE:20260726
SUMMARY:Fura la Palma 2026 — Individual Open Masculino
DESCRIPTION:Fura la Palma 2026 — Individual Open Masculino se celebrará el 25 de julio de 2026 en Llanos de Aridane (Los). Es una buena opción para quienes buscan un reto bien organizado y una jornada deportiva en un entorno especial. Consulta los detalles del recorrido y prepara tu participación con tiempo para aprovechar mejor la experiencia.
LOCATION:Llanos de Aridane (Los)
URL:https://sportplan.vercel.app/de/events/fura-la-palma-2026-individual-open-masculino-llanos-de-aridane-los-2026-07-25
END:VEVENT
END:VCALENDAR
