BEGIN:VCALENDAR
VERSION:2.0
PRODID:-//SportPlan//Event Calendar//EN
CALSCALE:GREGORIAN
BEGIN:VEVENT
UID:752846f6-efb8-482d-b8f4-3a74d3d7c3af@sportplan.local
DTSTAMP:20260421T010135Z
DTSTART;VALUE=DATE:20260823
DTEND;VALUE=DATE:20260824
SUMMARY:Forest Run Fest.(ival) Frost Edition
DESCRIPTION:
LOCATION:Christchurch
URL:https://sportplan.vercel.app/de/events/forest-run-fest-ival-frost-edition-christchurch-2026-08-23
END:VEVENT
END:VCALENDAR
