BEGIN:VCALENDAR
VERSION:2.0
PRODID:-//SportPlan//Event Calendar//EN
CALSCALE:GREGORIAN
BEGIN:VEVENT
UID:970871db-ac77-4d83-b817-bfec7dcfadf6@sportplan.local
DTSTAMP:20260420T190614Z
DTSTART;VALUE=DATE:20260610
DTEND;VALUE=DATE:20260611
SUMMARY:Forchlauf
DESCRIPTION:Discovered via World's Marathons Switzerland half-marathon coverage\; slug uses 'forchaluf'.
LOCATION:Zürich\, Switzerland
URL:https://sportplan.vercel.app/de/events/forchlauf-2026-06-10
END:VEVENT
END:VCALENDAR
