BEGIN:VCALENDAR
VERSION:2.0
PRODID:-//SportPlan//Event Calendar//EN
CALSCALE:GREGORIAN
BEGIN:VEVENT
UID:3b340a71-0786-4b62-b73c-f5a64f3cc163@sportplan.local
DTSTAMP:20260420T192053Z
DTSTART;VALUE=DATE:20260912
DTEND;VALUE=DATE:20260914
SUMMARY:Florida DEKA FIT & Ultra 2026
DESCRIPTION:Florida DEKA FIT & Ultra 2026 is an official amateur hybrid-fitness event in Fort Lauderdale\, Florida from 12 to 13 September 2026. The official Spartan DEKA page presents a public event at Broward County Convention Center with DEKA FIT and Ultra racing plus competitive heat categories for amateur participants.
LOCATION:Fort Lauderdale\, Florida
URL:https://sportplan.vercel.app/de/events/florida-deka-fit-ultra-2026-fort-lauderdale-2026-09-12
END:VEVENT
END:VCALENDAR
