BEGIN:VCALENDAR
VERSION:2.0
PRODID:-//SportPlan//Event Calendar//EN
CALSCALE:GREGORIAN
BEGIN:VEVENT
UID:f1d50d47-2ff7-44a2-9a01-e98b47306bcc@sportplan.local
DTSTAMP:20260421T005513Z
DTSTART;VALUE=DATE:20260606
DTEND;VALUE=DATE:20260607
SUMMARY:Fjellmaraton
DESCRIPTION:Fjellmaraton arrangeres 6. juni 2026 i Beitostølen\, Norway. Dette er et godt valg for deltakere som ser etter en godt organisert utfordring i flotte omgivelser. Perfekt for å planlegge sesongen\, nyte stemningen og delta i eget tempo.
LOCATION:Beitostølen\, Norway
URL:https://sportplan.vercel.app/de/events/fjellmaraton-2026-06-06
END:VEVENT
END:VCALENDAR
