BEGIN:VCALENDAR
VERSION:2.0
PRODID:-//SportPlan//Event Calendar//EN
CALSCALE:GREGORIAN
BEGIN:VEVENT
UID:c6e8693d-752c-480b-aa6c-b2d643bbbdbf@sportplan.local
DTSTAMP:20260420T204809Z
DTSTART;VALUE=DATE:20260531
DTEND;VALUE=DATE:20260601
SUMMARY:Fitletix Salzburg
DESCRIPTION:Fitletix Salzburg findet am 31. Mai 2026 in Salzburgo statt. Die Veranstaltung ist eine starke Wahl für alle\, die ein gut organisiertes Event an diesem Ort erleben möchten. Teilnehmende können sich auf eine motivierende Atmosphäre und einen besonderen Tag freuen – egal ob erfahren oder zum ersten Mal dabei.
LOCATION:Salzburgo
URL:https://sportplan.vercel.app/de/events/fitletix-salzburg-salzburgo-2026-05-31
END:VEVENT
END:VCALENDAR
