BEGIN:VCALENDAR
VERSION:2.0
PRODID:-//SportPlan//Event Calendar//EN
CALSCALE:GREGORIAN
BEGIN:VEVENT
UID:13c4be2b-4a25-485f-9a3b-ee6f3076db17@sportplan.local
DTSTAMP:20260420T160906Z
DTSTART;VALUE=DATE:20260208
DTEND;VALUE=DATE:20260209
SUMMARY:First Half 2026
DESCRIPTION:First Half 2026 is an official amateur half marathon in Vancouver\, British Columbia\, scheduled for Sunday\, 8 February 2026. The official event site presents it as Canada's Fastest Half Marathon\, with a 21.1 km waterfront course starting near the Roundhouse Community Centre and looping along the Seawall and Stanley Park.
LOCATION:Vancouver
URL:https://sportplan.vercel.app/de/events/first-half-2026-vancouver-2026-02-08
END:VEVENT
END:VCALENDAR
