BEGIN:VCALENDAR
VERSION:2.0
PRODID:-//SportPlan//Event Calendar//EN
CALSCALE:GREGORIAN
BEGIN:VEVENT
UID:52970523-ca3f-4e2b-b269-d0518c6ac1cf@sportplan.local
DTSTAMP:20260421T010539Z
DTSTART;VALUE=DATE:20260627
DTEND;VALUE=DATE:20260628
SUMMARY:Finntriathlon Vierumäki 2026
DESCRIPTION:Finntriathlon Vierumäki 2026 is an official amateur triathlon in Vierumäki\, Finland on 27 June 2026. The event is linked from the Suomen Triathlonliitto 2026 calendar and the official event page says the race offers open participation from supersprint to standard-distance racing at Vierumäki.
LOCATION:Vierumäki
URL:https://sportplan.vercel.app/de/events/finntriathlon-vierumaki-2026-2026-06-27
END:VEVENT
END:VCALENDAR
