BEGIN:VCALENDAR
VERSION:2.0
PRODID:-//SportPlan//Event Calendar//EN
CALSCALE:GREGORIAN
BEGIN:VEVENT
UID:1cf86fba-6428-4ed0-bf20-54dea8bfaca8@sportplan.local
DTSTAMP:20260421T030425Z
DTSTART;VALUE=DATE:20260829
DTEND;VALUE=DATE:20260830
SUMMARY:Finntriathlon Saimaa 2026
DESCRIPTION:Finntriathlon Saimaa 2026 is an official amateur triathlon in Lappeenranta\, Finland on 29 August 2026. The event is linked from the Suomen Triathlonliitto competition calendar and the official Finntriathlon page describes a late-summer race at Holiday Club Saimaa with sprint and standard-distance options in a gravel-friendly course suitable for gravel and mountain bikes.
LOCATION:Holiday Club Saimaa\, Lappeenranta
URL:https://sportplan.vercel.app/de/events/finntriathlon-saimaa-2026-2026-08-29
END:VEVENT
END:VCALENDAR
