BEGIN:VCALENDAR
VERSION:2.0
PRODID:-//SportPlan//Event Calendar//EN
CALSCALE:GREGORIAN
BEGIN:VEVENT
UID:cc16f78c-36a7-4ad7-9cb4-f00a3e01395b@sportplan.local
DTSTAMP:20260421T001617Z
DTSTART;VALUE=DATE:20270220
DTEND;VALUE=DATE:20270221
SUMMARY:Finlandia-hiihto Classic 20 km Youth 2027
DESCRIPTION:Finlandia-hiihto is a long-running public cross-country ski weekend in Lahti. The official 2027 program and official registration flow both list a dedicated 20 km classic-technique youth race on Saturday 20 February 2027 for M/W16 participants\, as part of the official amateur-participation Finlandia-hiihto program.
LOCATION:Lahti\, Päijät-Häme\, Finland
URL:https://sportplan.vercel.app/de/events/finlandia-hiihto-classic-20km-youth-2027-lahti-2027-02-20
END:VEVENT
END:VCALENDAR
