BEGIN:VCALENDAR
VERSION:2.0
PRODID:-//SportPlan//Event Calendar//EN
CALSCALE:GREGORIAN
BEGIN:VEVENT
UID:6d132f67-3ac3-47eb-b5a3-0e3193946aee@sportplan.local
DTSTAMP:20260420T191731Z
DTSTART;VALUE=DATE:20260802
DTEND;VALUE=DATE:20260803
SUMMARY:EVA Air Sunshine Coast Marathon
DESCRIPTION:2 August 2026\, Sunshine Coast\, Queensland\, Australia Run the region set to host the 2032 Olympic & Paralympic Marathon World Athletics Road Race Sellout event in
LOCATION:Sunshine Coast\, QLD\, Australia
URL:https://sportplan.vercel.app/de/events/eva-air-sunshine-coast-marathon-2026-08-02
END:VEVENT
END:VCALENDAR
