BEGIN:VCALENDAR
VERSION:2.0
PRODID:-//SportPlan//Event Calendar//EN
CALSCALE:GREGORIAN
BEGIN:VEVENT
UID:9ccd37da-f3b1-43d2-bdb4-fa58329925cb@sportplan.local
DTSTAMP:20260420T191757Z
DTSTART;VALUE=DATE:20260606
DTEND;VALUE=DATE:20260607
SUMMARY:Estonian Road Mile Championships
DESCRIPTION:discovered via official World Athletics calendar filter (country=Estonia\, discipline=Road Running)\; underseeded Baltic coverage expansion
LOCATION:Narva (EST)
URL:https://sportplan.vercel.app/de/events/estonian-road-mile-championships-2026-06-06
END:VEVENT
END:VCALENDAR
