BEGIN:VCALENDAR
VERSION:2.0
PRODID:-//SportPlan//Event Calendar//EN
CALSCALE:GREGORIAN
BEGIN:VEVENT
UID:b0211378-f9af-437c-92b1-ab07324b6d87@sportplan.local
DTSTAMP:20260420T191701Z
DTSTART;VALUE=DATE:20260629
DTEND;VALUE=DATE:20260630
SUMMARY:Estampida Nocturna 2024
DESCRIPTION:Estampida Nocturna 2024 se celebrará el 2026-06-29 en Cadrete\, Zaragoza\, Aragón. Es una buena opción para quienes buscan un reto bien organizado sobre una distancia de 10 km. Ideal tanto para participantes que quieren competir como para quienes prefieren disfrutar del ambiente del evento.
LOCATION:Cadrete\, Zaragoza\, Aragón
URL:https://sportplan.vercel.app/de/events/estampida-nocturna-2024-cadrete-2026-06-29-10k
END:VEVENT
END:VCALENDAR
