BEGIN:VCALENDAR
VERSION:2.0
PRODID:-//SportPlan//Event Calendar//EN
CALSCALE:GREGORIAN
BEGIN:VEVENT
UID:2f6623e6-6902-48f3-b490-cc4be62788d7@sportplan.local
DTSTAMP:20260421T030819Z
DTSTART;VALUE=DATE:20260802
DTEND;VALUE=DATE:20260803
SUMMARY:Espoo City Triathlon 2026
DESCRIPTION:Espoo City Triathlon 2026 is an official amateur triathlon in Espoo\, Finland on 2 August 2026. The event is linked from the Suomen Triathlonliitto competition calendar and the official site says the race is part of SM-viikko\, with open participation in supersprint championship\, competitive\, try-triathlon\, relay\, adult-and-child\, and children and youth formats at Leppävaaran urheilupuisto.
LOCATION:Leppävaaran urheilupuisto\, Espoo
URL:https://sportplan.vercel.app/de/events/espoo-city-triathlon-2026-2026-08-02
END:VEVENT
END:VCALENDAR
