BEGIN:VCALENDAR
VERSION:2.0
PRODID:-//SportPlan//Event Calendar//EN
CALSCALE:GREGORIAN
BEGIN:VEVENT
UID:f35a742b-0a64-41cb-b1d0-8b7104907714@sportplan.local
DTSTAMP:20260421T001058Z
DTSTART;VALUE=DATE:20260919
DTEND;VALUE=DATE:20260920
SUMMARY:Espoo Beach Marathon
DESCRIPTION:discovered via TimeOutdoors Finland runs directory\; Finland had only 1 existing queue entry before this run\, so it was prioritized under the underrepresented-country rule.
LOCATION:Espoo\, Finland
URL:https://sportplan.vercel.app/de/events/espoo-beach-marathon-2026-09-19
END:VEVENT
END:VCALENDAR
