BEGIN:VCALENDAR
VERSION:2.0
PRODID:-//SportPlan//Event Calendar//EN
CALSCALE:GREGORIAN
BEGIN:VEVENT
UID:9f1b4980-3a5e-48cc-b174-ed0f9b5c557b@sportplan.local
DTSTAMP:20260420T191922Z
DTSTART;VALUE=DATE:20260510
DTEND;VALUE=DATE:20260511
SUMMARY:Ephesus Ultra Marathon 60K 2026
DESCRIPTION:Ephesus Ultra Marathon 60K 2026 takes place in Selçuk\, Izmir on May 10\, 2026\, bringing runners together for a memorable race-day atmosphere. Whether you're aiming for a personal best or simply want to enjoy the course over 60 km\, this event offers a motivating experience in Selçuk\, Izmir.
LOCATION:Selçuk\, Izmir
URL:https://sportplan.vercel.app/de/events/ephesus-ultra-marathon-60k-2026-sel-uk-2026-05-10
END:VEVENT
END:VCALENDAR
