BEGIN:VCALENDAR
VERSION:2.0
PRODID:-//SportPlan//Event Calendar//EN
CALSCALE:GREGORIAN
BEGIN:VEVENT
UID:0d0f049f-a3d4-4133-9ad6-3e162ce8fce9@sportplan.local
DTSTAMP:20260420T204439Z
DTSTART;VALUE=DATE:20260510
DTEND;VALUE=DATE:20260511
SUMMARY:Engie Dwars door Brugge
DESCRIPTION:Engie Dwars door Brugge a lieu à Brujas le 10 mai 2026\, dans une ambiance sportive ouverte aux coureurs de tous niveaux. Que vous visiez un record personnel ou que vous souhaitiez simplement profiter du parcours\, l'événement promet une belle journée de course à Brujas.
LOCATION:Brujas
URL:https://sportplan.vercel.app/de/events/engie-dwars-door-brugge-brujas-2026-05-10
END:VEVENT
END:VCALENDAR
