BEGIN:VCALENDAR
VERSION:2.0
PRODID:-//SportPlan//Event Calendar//EN
CALSCALE:GREGORIAN
BEGIN:VEVENT
UID:be548211-c5da-4988-9680-1db9a814262c@sportplan.local
DTSTAMP:20260420T222803Z
DTSTART;VALUE=DATE:20260920
DTEND;VALUE=DATE:20260921
SUMMARY:ENERGIZER Narva-Jõesuu Running Festival 2026
DESCRIPTION:ENERGIZER Narva-Jõesuu Running Festival 2026 is an official amateur road running event in Narva-Jõesuu\, Estonia on 20 September 2026. The official organizer page lists a children's run and public 5 km\, 10 km\, and half marathon distances.
LOCATION:Narva-Jõesuu\, Estonia
URL:https://sportplan.vercel.app/de/events/energizer-narva-joesuu-running-festival-2026-narva-joesuu-2026-09-20
END:VEVENT
END:VCALENDAR
