BEGIN:VCALENDAR
VERSION:2.0
PRODID:-//SportPlan//Event Calendar//EN
CALSCALE:GREGORIAN
BEGIN:VEVENT
UID:69e7b255-ca4a-4eab-a344-37ebb157598a@sportplan.local
DTSTAMP:20260420T204721Z
DTSTART;VALUE=DATE:20261120
DTEND;VALUE=DATE:20261123
SUMMARY:El Privilegio 100 Millas 2026 — El Privilegio 6 Leguas 6K
DESCRIPTION:El Privilegio 100 Millas 2026 — El Privilegio 6 Leguas 6K se celebrará el 20 noviembre 2026 en Ciudad Real\, ofreciendo una cita ideal para quienes quieren vivir el ambiente del evento desde cerca. Con una distancia aproximada de 6 km\, es una opción atractiva tanto para participantes habituales como para quienes quieren sumar un nuevo reto en el calendario.
LOCATION:Ciudad Real
URL:https://sportplan.vercel.app/de/events/el-privilegio-100-millas-2026-el-privilegio-6-leguas-6k-ciudad-real-2026-11-20
END:VEVENT
END:VCALENDAR
