BEGIN:VCALENDAR
VERSION:2.0
PRODID:-//SportPlan//Event Calendar//EN
CALSCALE:GREGORIAN
BEGIN:VEVENT
UID:cba09ee2-6944-4086-8e89-a024f4d9680c@sportplan.local
DTSTAMP:20260420T204226Z
DTSTART;VALUE=DATE:20261025
DTEND;VALUE=DATE:20261026
SUMMARY:Dublin Marathon 2026
DESCRIPTION:The official Irish Life Dublin Marathon site confirms the 2026 Dublin Marathon for 25 October 2026. It describes Ireland’s flagship mass-participation road race in Dublin\, with race-series context\, registration timing updates\, and the marathon countdown published on the organizer’s official platform.
LOCATION:Dublin\, Leinster
URL:https://sportplan.vercel.app/de/events/dublin-marathon-2026-dublin-2026-10-25
END:VEVENT
END:VCALENDAR
