BEGIN:VCALENDAR
VERSION:2.0
PRODID:-//SportPlan//Event Calendar//EN
CALSCALE:GREGORIAN
BEGIN:VEVENT
UID:9299afb6-754a-4ee4-ad00-30b972835d20@sportplan.local
DTSTAMP:20260420T192159Z
DTSTART;VALUE=DATE:20260322
DTEND;VALUE=DATE:20260323
SUMMARY:Duatlo Cross de Famalicão
DESCRIPTION:Official Federação de Triatlo de Portugal event page for the 2026 Duatlo Cross de Famalicão.
LOCATION:Famalicão\, Portugal
URL:https://sportplan.vercel.app/de/events/duatlo-cross-de-famalicao-famalicao-2026-03-22
END:VEVENT
END:VCALENDAR
