BEGIN:VCALENDAR
VERSION:2.0
PRODID:-//SportPlan//Event Calendar//EN
CALSCALE:GREGORIAN
BEGIN:VEVENT
UID:4f2bb6fa-d54b-4632-a691-04c0e8d5db62@sportplan.local
DTSTAMP:20260420T222204Z
DTSTART;VALUE=DATE:20261025
DTEND;VALUE=DATE:20261026
SUMMARY:Dresden Marathon 2026
DESCRIPTION:Dresden Marathon 2026 findet am 25. Oktober 2026 in Dresden\, Sachsen statt und bringt Teilnehmende zu einem gut organisierten Sporttag zusammen. Die Veranstaltung bietet eine 42.2-km-Strecke\, die Anspruch und Laufspaß verbindet. Damit ist sie eine starke Gelegenheit\, die lokale Stimmung zu erleben\, ein Saisonziel anzugehen und motiviert an den Start zu gehen.
LOCATION:Dresden\, Sachsen
URL:https://sportplan.vercel.app/de/events/dresden-marathon-2026-dresden-2026-10-25
END:VEVENT
END:VCALENDAR
