BEGIN:VCALENDAR
VERSION:2.0
PRODID:-//SportPlan//Event Calendar//EN
CALSCALE:GREGORIAN
BEGIN:VEVENT
UID:8bcaf7d8-b581-4a73-a80d-b8825cdefcf4@sportplan.local
DTSTAMP:20260420T204605Z
DTSTART;VALUE=DATE:20260607
DTEND;VALUE=DATE:20260608
SUMMARY:Douro Montemuro Ultra Trilhos
DESCRIPTION:Douro Montemuro Ultra Trilhos acontecerá em Cinfães no dia 7 de junho de 2026. É uma ótima oportunidade para aproveitar o ambiente do evento e viver uma experiência esportiva bem organizada. Ideal tanto para quem quer buscar desempenho quanto para quem prefere curtir um dia ativo em um cenário especial.
LOCATION:Cinfães
URL:https://sportplan.vercel.app/de/events/douro-montemuro-ultra-trilhos-cinfaes-2026-06-07
END:VEVENT
END:VCALENDAR
