BEGIN:VCALENDAR
VERSION:2.0
PRODID:-//SportPlan//Event Calendar//EN
CALSCALE:GREGORIAN
BEGIN:VEVENT
UID:7dee5e4a-7ece-42b1-8bc8-505c40a7104d@sportplan.local
DTSTAMP:20260420T231755Z
DTSTART;VALUE=DATE:20270123
DTEND;VALUE=DATE:20270124
SUMMARY:Dolomitenlauf 5 km FT 2027
DESCRIPTION:Dolomitenlauf 5 km FT is the official entry-level easy race within Austria's Dolomitenlauf weekend in Obertilliach\, East Tyrol. The official Dolomitenlauf program lists the free-technique Easyrace on Saturday 23 January 2027\, and the official course information highlights the beginner-friendly short-distance option alongside the longer public races.
LOCATION:Obertilliach\, East Tyrol\, Austria
URL:https://sportplan.vercel.app/de/events/dolomitenlauf-5-km-ft-obertilliach-2027-01-23
END:VEVENT
END:VCALENDAR
