BEGIN:VCALENDAR
VERSION:2.0
PRODID:-//SportPlan//Event Calendar//EN
CALSCALE:GREGORIAN
BEGIN:VEVENT
UID:95ae1b34-f808-4de4-9bf3-449a087b188a@sportplan.local
DTSTAMP:20260420T231842Z
DTSTART;VALUE=DATE:20270123
DTEND;VALUE=DATE:20270124
SUMMARY:Dolomitenlauf 42 km FT 2027
DESCRIPTION:Dolomitenlauf is Austria's biggest popular cross-country ski event\, open to pros\, amateurs\, and recreational skiers. The official organizer page describes three race days in Obertilliach and the Worldloppet federation page confirms the classic 42 km freestyle race on 23 January 2027.
LOCATION:Obertilliach\, Tyrol\, Austria
URL:https://sportplan.vercel.app/de/events/dolomitenlauf-42-km-ft-obertilliach-2027-01-23
END:VEVENT
END:VCALENDAR
