BEGIN:VCALENDAR
VERSION:2.0
PRODID:-//SportPlan//Event Calendar//EN
CALSCALE:GREGORIAN
BEGIN:VEVENT
UID:31091e88-7e26-46fe-a7fa-c86fe3002eca@sportplan.local
DTSTAMP:20260420T231912Z
DTSTART;VALUE=DATE:20270124
DTEND;VALUE=DATE:20270125
SUMMARY:Dolomitenlauf 42 km CL 2027
DESCRIPTION:Dolomitenlauf 42 km CL is an official amateur classic-technique ski marathon at Austria's Dolomitenlauf weekend in Obertilliach\, East Tyrol. The official Dolomitenlauf program lists the classic 42 km race on Sunday 24 January 2027\, and the official course page confirms the long-distance public race format in Obertilliach.
LOCATION:Obertilliach\, East Tyrol\, Austria
URL:https://sportplan.vercel.app/de/events/dolomitenlauf-42-km-cl-obertilliach-2027-01-24
END:VEVENT
END:VCALENDAR
