BEGIN:VCALENDAR
VERSION:2.0
PRODID:-//SportPlan//Event Calendar//EN
CALSCALE:GREGORIAN
BEGIN:VEVENT
UID:ee827dd6-bb67-401b-9d50-311a6d7a558e@sportplan.local
DTSTAMP:20260420T203823Z
DTSTART;VALUE=DATE:20260614
DTEND;VALUE=DATE:20260615
SUMMARY:Dolomite Cycling Tour
DESCRIPTION:Dolomite Cycling Tour findet am 14. Juni 2026 in Lienz statt. Diese Veranstaltung bietet ein gut organisiertes Lauferlebnis\, ideal für Läuferinnen und Läufer\, die eine klar definierte Herausforderung suchen. Freuen Sie sich auf eine motivierende Atmosphäre\, eine klare sportliche Herausforderung und einen starken Renntag in Lienz.
LOCATION:Lienz
URL:https://sportplan.vercel.app/de/events/dolomite-cycling-tour-lienz-2026-06-14
END:VEVENT
END:VCALENDAR
