BEGIN:VCALENDAR
VERSION:2.0
PRODID:-//SportPlan//Event Calendar//EN
CALSCALE:GREGORIAN
BEGIN:VEVENT
UID:a4548ca3-6511-404f-9abe-9a41deaa34f7@sportplan.local
DTSTAMP:20260420T191906Z
DTSTART;VALUE=DATE:20260418
DTEND;VALUE=DATE:20260419
SUMMARY:Divertiland Duatlon by Seven 2026
DESCRIPTION:Divertiland Duatlon by Seven 2026 is an official amateur sprint duathlon in Chiajna\, Romania on 18 April 2026. The event appears in the Romanian Triathlon Federation 2026 calendar\, lists Seven Club as organizer\, and uses the official Seven Sport Club website for the event family at Divertiland Park.
LOCATION:Divertiland Park\, Chiajna
URL:https://sportplan.vercel.app/de/events/divertiland-duatlon-by-seven-2026-chiajna-2026-04-18
END:VEVENT
END:VCALENDAR
